BEGIN:VCALENDAR
VERSION:2.0
PRODID:-//Brazos Abiertos - ECPv6.15.20//NONSGML v1.0//EN
CALSCALE:GREGORIAN
METHOD:PUBLISH
X-WR-CALNAME:Brazos Abiertos
X-ORIGINAL-URL:https://brazosabiertos.net/nl
X-WR-CALDESC:Evenementen voor Brazos Abiertos
REFRESH-INTERVAL;VALUE=DURATION:PT1H
X-Robots-Tag:noindex
X-PUBLISHED-TTL:PT1H
BEGIN:VTIMEZONE
TZID:America/Lima
BEGIN:STANDARD
TZOFFSETFROM:-0500
TZOFFSETTO:-0500
TZNAME:-05
DTSTART:20230101T000000
END:STANDARD
END:VTIMEZONE
BEGIN:VTIMEZONE
TZID:UTC
BEGIN:STANDARD
TZOFFSETFROM:+0000
TZOFFSETTO:+0000
TZNAME:UTC
DTSTART:20230101T000000
END:STANDARD
END:VTIMEZONE
BEGIN:VEVENT
DTSTART;TZID=America/Lima:20260415T193000
DTEND;TZID=America/Lima:20260415T203000
DTSTAMP:20260419T095940
CREATED:20210825T145322Z
LAST-MODIFIED:20260225T163631Z
UID:2100-1776281400-1776285000@brazosabiertos.net
SUMMARY:[:es]Culto de oración[:en]Prayermeeting[:nl]Gebedsontmoeting[:]
DESCRIPTION:Elke woensdagavond om 19:30 uur \n 
URL:https://brazosabiertos.net/nl/event/culto-de-oracion-6/
LOCATION:Jmeo Lima\, geopende armen kerk\, Calle los Cipreses Mz G\, Lt 25\, Nueva Juventud\, Lima\, Cieneguilla\, Perú
ATTACH;FMTTYPE=image/jpeg:https://brazosabiertos.net/wp-content/uploads/2025/09/Culto-de-oracion.jpeg
END:VEVENT
BEGIN:VEVENT
DTSTART;TZID=America/Lima:20260412T100000
DTEND;TZID=America/Lima:20260412T113000
DTSTAMP:20260419T095940
CREATED:20230126T015818Z
LAST-MODIFIED:20260225T163131Z
UID:2589-1775988000-1775993400@brazosabiertos.net
SUMMARY:[:es]Culto familiar [:en]Church service[:nl]Kerkdienst[:]
DESCRIPTION:Kerkdienst
URL:https://brazosabiertos.net/nl/event/culto-familiar-dia-del-madre/
LOCATION:Jmeo Lima\, geopende armen kerk\, Calle los Cipreses Mz G\, Lt 25\, Nueva Juventud\, Lima\, Cieneguilla\, Perú
ATTACH;FMTTYPE=image/jpeg:https://brazosabiertos.net/wp-content/uploads/2025/09/Culto-familiar.jpeg
END:VEVENT
BEGIN:VEVENT
DTSTART;TZID=America/Lima:20260408T193000
DTEND;TZID=America/Lima:20260408T203000
DTSTAMP:20260419T095940
CREATED:20201127T212950Z
LAST-MODIFIED:20260225T163545Z
UID:1980-1775676600-1775680200@brazosabiertos.net
SUMMARY:[:es]Culto de oración[:en]Prayermeeting[:nl]Gebedsontmoeting[:]
DESCRIPTION:Elke woensdagavond om 19:30 uur
URL:https://brazosabiertos.net/nl/event/culto-de-oracion-2/
LOCATION:Jmeo Lima\, geopende armen kerk\, Calle los Cipreses Mz G\, Lt 25\, Nueva Juventud\, Lima\, Cieneguilla\, Perú
ATTACH;FMTTYPE=image/jpeg:https://brazosabiertos.net/wp-content/uploads/2025/09/Culto-de-oracion.jpeg
END:VEVENT
BEGIN:VEVENT
DTSTART;TZID=America/Lima:20260405T100000
DTEND;TZID=America/Lima:20260405T113000
DTSTAMP:20260419T095940
CREATED:20210825T151204Z
LAST-MODIFIED:20260225T163102Z
UID:2104-1775383200-1775388600@brazosabiertos.net
SUMMARY:[:es]Culto familiar[:en]Church service[:nl]Kerkdienst[:]
DESCRIPTION:Kerkdienst
URL:https://brazosabiertos.net/nl/event/culto-familiar-10/
LOCATION:Jmeo Lima\, geopende armen kerk\, Calle los Cipreses Mz G\, Lt 25\, Nueva Juventud\, Lima\, Cieneguilla\, Perú
ATTACH;FMTTYPE=image/jpeg:https://brazosabiertos.net/wp-content/uploads/2025/09/Culto-familiar.jpeg
END:VEVENT
BEGIN:VEVENT
DTSTART;TZID=America/Lima:20260401T193000
DTEND;TZID=America/Lima:20260401T203000
DTSTAMP:20260419T095940
CREATED:20201127T212725Z
LAST-MODIFIED:20260225T163458Z
UID:1979-1775071800-1775075400@brazosabiertos.net
SUMMARY:[:es]Culto de oración[:en]Prayermeeting[:nl]Gebedsontmoeting[:]
DESCRIPTION:Iedere woensdagavond om 19:30 uur
URL:https://brazosabiertos.net/nl/event/culto-de-oracion/
LOCATION:Jmeo Lima\, geopende armen kerk\, Calle los Cipreses Mz G\, Lt 25\, Nueva Juventud\, Lima\, Cieneguilla\, Perú
ATTACH;FMTTYPE=image/jpeg:https://brazosabiertos.net/wp-content/uploads/2025/09/Culto-de-oracion.jpeg
END:VEVENT
BEGIN:VEVENT
DTSTART;TZID=UTC:20260329T100000
DTEND;TZID=UTC:20260329T113000
DTSTAMP:20260419T095940
CREATED:20181222T230212Z
LAST-MODIFIED:20260225T163030Z
UID:1134-1774778400-1774783800@brazosabiertos.net
SUMMARY:[:es]Culto familiar [:en]Church service[:nl]Kerkdienst[:]
DESCRIPTION:Kerkdienst
URL:https://brazosabiertos.net/nl/event/culto-familiar-4/
LOCATION:Jmeo Lima\, geopende armen kerk\, Calle los Cipreses Mz G\, Lt 25\, Nueva Juventud\, Lima\, Cieneguilla\, Perú
ATTACH;FMTTYPE=image/jpeg:https://brazosabiertos.net/wp-content/uploads/2025/09/Culto-familiar.jpeg
END:VEVENT
BEGIN:VEVENT
DTSTART;TZID=America/Lima:20260328T190000
DTEND;TZID=America/Lima:20260328T210000
DTSTAMP:20260419T095940
CREATED:20230126T021412Z
LAST-MODIFIED:20260319T202105Z
UID:2593-1774724400-1774731600@brazosabiertos.net
SUMMARY:[:es]Noche de adoración[:en]Worship evening[:nl]Aanbiddingsavond[:]
DESCRIPTION:
URL:https://brazosabiertos.net/nl/event/noche-de-alabanza-3/
LOCATION:Jmeo Lima\, geopende armen kerk\, Calle los Cipreses Mz G\, Lt 25\, Nueva Juventud\, Lima\, Cieneguilla\, Perú
ATTACH;FMTTYPE=image/jpeg:https://brazosabiertos.net/wp-content/uploads/2023/01/Noche-de-alabanza.jpeg
END:VEVENT
BEGIN:VEVENT
DTSTART;TZID=America/Lima:20260325T193000
DTEND;TZID=America/Lima:20260325T203000
DTSTAMP:20260419T095940
CREATED:20210825T145452Z
LAST-MODIFIED:20260225T163430Z
UID:2101-1774467000-1774470600@brazosabiertos.net
SUMMARY:[:es]Culto de oración[:en]Prayermeeting[:nl]Gebedsontmoeting[:]
DESCRIPTION:Elke woensdagavond om 19:30 uur \n 
URL:https://brazosabiertos.net/nl/event/culto-de-oracion-7/
LOCATION:Jmeo Lima\, geopende armen kerk\, Calle los Cipreses Mz G\, Lt 25\, Nueva Juventud\, Lima\, Cieneguilla\, Perú
ATTACH;FMTTYPE=image/jpeg:https://brazosabiertos.net/wp-content/uploads/2025/09/Culto-de-oracion.jpeg
END:VEVENT
BEGIN:VEVENT
DTSTART;TZID=America/Lima:20260322T100000
DTEND;TZID=America/Lima:20260322T113000
DTSTAMP:20260419T095940
CREATED:20221028T022524Z
LAST-MODIFIED:20260225T163007Z
UID:2536-1774173600-1774179000@brazosabiertos.net
SUMMARY:[:es]Culto familiar[:en]Church service[:nl]Kerkdienst[:]
DESCRIPTION:
URL:https://brazosabiertos.net/nl/event/culto-familiar-11/
LOCATION:Jmeo Lima\, geopende armen kerk\, Calle los Cipreses Mz G\, Lt 25\, Nueva Juventud\, Lima\, Cieneguilla\, Perú
ATTACH;FMTTYPE=image/jpeg:https://brazosabiertos.net/wp-content/uploads/2025/09/Culto-familiar.jpeg
END:VEVENT
BEGIN:VEVENT
DTSTART;TZID=America/Lima:20251223T140000
DTEND;TZID=America/Lima:20251223T160000
DTSTAMP:20260419T095940
CREATED:20240415T214513Z
LAST-MODIFIED:20251219T011209Z
UID:3867-1766498400-1766505600@brazosabiertos.net
SUMMARY:[:es]Reunión JUCUM[:en]YWAM meeting[:nl]JMEO ontmoeting[:]
DESCRIPTION:
URL:https://brazosabiertos.net/nl/event/reunion-jucum-3/
LOCATION:Jmeo Lima\, geopende armen kerk\, Calle los Cipreses Mz G\, Lt 25\, Nueva Juventud\, Lima\, Cieneguilla\, Perú
ATTACH;FMTTYPE=image/jpeg:https://brazosabiertos.net/wp-content/uploads/2024/04/Go-Africa-Movie.jpg
END:VEVENT
BEGIN:VEVENT
DTSTART;TZID=America/Lima:20251221T170000
DTEND;TZID=America/Lima:20251221T210000
DTSTAMP:20260419T095940
CREATED:20221205T185402Z
LAST-MODIFIED:20251219T004653Z
UID:2552-1766336400-1766350800@brazosabiertos.net
SUMMARY:[:es]Noche de parejas[:en]Evening for couples[:nl]Avond voor echtparen[:]
DESCRIPTION:
URL:https://brazosabiertos.net/nl/event/cena-romantica/
LOCATION:Jmeo Lima\, geopende armen kerk\, Calle los Cipreses Mz G\, Lt 25\, Nueva Juventud\, Lima\, Cieneguilla\, Perú
ATTACH;FMTTYPE=image/jpeg:https://brazosabiertos.net/wp-content/uploads/2019/03/Noche-de-parejas.jpeg
END:VEVENT
BEGIN:VEVENT
DTSTART;TZID=America/Lima:20251125T143000
DTEND;TZID=America/Lima:20251125T160000
DTSTAMP:20260419T095940
CREATED:20240401T051956Z
LAST-MODIFIED:20251112T023159Z
UID:3800-1764081000-1764086400@brazosabiertos.net
SUMMARY:[:es]Reunión Jucum [:en]Ywam meeting[:nl]Jmeo ontmoeting[:]
DESCRIPTION:
URL:https://brazosabiertos.net/nl/event/reunion-jucum-con-ricardo-rodriguez/
LOCATION:Jmeo Lima\, Brazos Abiertos\, De Vuurtoren\, Calle los Tulipanes Mz H1\, Lt1\, Nueva Juventud\, Lima\, Cieneguilla\, Perú
END:VEVENT
BEGIN:VEVENT
DTSTART;TZID=America/Lima:20250527T143000
DTEND;TZID=America/Lima:20250527T153000
DTSTAMP:20260419T095940
CREATED:20240415T215130Z
LAST-MODIFIED:20250303T033808Z
UID:3879-1748356200-1748359800@brazosabiertos.net
SUMMARY:[:es]Reunión Jucum [:en]Ywam meeting[:nl]Jmeo ontmoeting[:]
DESCRIPTION:
URL:https://brazosabiertos.net/nl/event/reunion-jucum-9/
LOCATION:Jmeo Lima\, geopende armen kerk\, Calle los Cipreses Mz G\, Lt 25\, Nueva Juventud\, Lima\, Cieneguilla\, Perú
ATTACH;FMTTYPE=image/jpeg:https://brazosabiertos.net/wp-content/uploads/2024/04/Reunion-Jucum.jpeg
END:VEVENT
BEGIN:VEVENT
DTSTART;TZID=America/Lima:20250427T100000
DTEND;TZID=America/Lima:20250427T120000
DTSTAMP:20260419T095940
CREATED:20250417T022131Z
LAST-MODIFIED:20250417T022357Z
UID:4627-1745748000-1745755200@brazosabiertos.net
SUMMARY:[:es]Culto infantil[:en]Children's church[:nl]Kinderkerk[:]
DESCRIPTION:
URL:https://brazosabiertos.net/nl/event/culto-infantil/
LOCATION:Jmeo Lima\, geopende armen kerk\, Calle los Cipreses Mz G\, Lt 25\, Nueva Juventud\, Lima\, Cieneguilla\, Perú
ATTACH;FMTTYPE=image/jpeg:https://brazosabiertos.net/wp-content/uploads/2025/04/Culto-infantil.jpg
END:VEVENT
BEGIN:VEVENT
DTSTART;TZID=America/Lima:20250426T100000
DTEND;TZID=America/Lima:20250426T120000
DTSTAMP:20260419T095940
CREATED:20250417T021635Z
LAST-MODIFIED:20250417T021635Z
UID:4623-1745661600-1745668800@brazosabiertos.net
SUMMARY:[:es]Feria de talentos[:en]Talent fair[:nl]Talenten jacht[:]
DESCRIPTION:
URL:https://brazosabiertos.net/nl/event/feria-de-talentos-2/
LOCATION:Jmeo Lima\, geopende armen kerk\, Calle los Cipreses Mz G\, Lt 25\, Nueva Juventud\, Lima\, Cieneguilla\, Perú
ATTACH;FMTTYPE=image/jpeg:https://brazosabiertos.net/wp-content/uploads/2025/04/Feria-de-talentos.jpg
END:VEVENT
BEGIN:VEVENT
DTSTART;TZID=UTC:20250425T160000
DTEND;TZID=UTC:20250425T180000
DTSTAMP:20260419T095940
CREATED:20190314T010948Z
LAST-MODIFIED:20250417T022656Z
UID:1261-1745596800-1745604000@brazosabiertos.net
SUMMARY:[:es]Mujeres virtuosas[:en]Virtuous women[:nl]Vrouwen bijeenkomst[:]
DESCRIPTION:
URL:https://brazosabiertos.net/nl/event/club-de-mujeres-2/
LOCATION:Jmeo Lima\, geopende armen kerk\, Calle los Cipreses Mz G\, Lt 25\, Nueva Juventud\, Lima\, Cieneguilla\, Perú
ATTACH;FMTTYPE=image/jpeg:https://brazosabiertos.net/wp-content/uploads/2019/03/Mujeres-virtuosas.jpg
END:VEVENT
BEGIN:VEVENT
DTSTART;TZID=America/Lima:20250422T143000
DTEND;TZID=America/Lima:20250422T153000
DTSTAMP:20260419T095940
CREATED:20240415T214716Z
LAST-MODIFIED:20250303T033738Z
UID:3871-1745332200-1745335800@brazosabiertos.net
SUMMARY:[:es]Reunión Jucum [:en]Ywam meeting[:nl]Jmeo ontmoeting[:]
DESCRIPTION:
URL:https://brazosabiertos.net/nl/event/reunion-jucum-5/
LOCATION:Jmeo Lima\, geopende armen kerk\, Calle los Cipreses Mz G\, Lt 25\, Nueva Juventud\, Lima\, Cieneguilla\, Perú
ATTACH;FMTTYPE=image/jpeg:https://brazosabiertos.net/wp-content/uploads/2024/04/Reunion-Jucum.jpeg
END:VEVENT
BEGIN:VEVENT
DTSTART;TZID=America/Lima:20250325T143000
DTEND;TZID=America/Lima:20250325T153000
DTSTAMP:20260419T095940
CREATED:20240415T215042Z
LAST-MODIFIED:20250303T033705Z
UID:3877-1742913000-1742916600@brazosabiertos.net
SUMMARY:[:es]Reunión Jucum [:en]Ywam meeting[:nl]Jmeo ontmoeting[:]
DESCRIPTION:
URL:https://brazosabiertos.net/nl/event/reunion-jucum-8/
LOCATION:Jmeo Lima\, geopende armen kerk\, Calle los Cipreses Mz G\, Lt 25\, Nueva Juventud\, Lima\, Cieneguilla\, Perú
ATTACH;FMTTYPE=image/jpeg:https://brazosabiertos.net/wp-content/uploads/2024/04/Reunion-Jucum.jpeg
END:VEVENT
BEGIN:VEVENT
DTSTART;TZID=America/Lima:20250318T143000
DTEND;TZID=America/Lima:20250318T153000
DTSTAMP:20260419T095940
CREATED:20240415T214557Z
LAST-MODIFIED:20250303T033631Z
UID:3869-1742308200-1742311800@brazosabiertos.net
SUMMARY:[:es]Reunión Jucum [:en]Ywam meeting[:nl]Jmeo ontmoeting[:]
DESCRIPTION:
URL:https://brazosabiertos.net/nl/event/reunion-jucum-4/
LOCATION:Jmeo Lima\, geopende armen kerk\, Calle los Cipreses Mz G\, Lt 25\, Nueva Juventud\, Lima\, Cieneguilla\, Perú
ATTACH;FMTTYPE=image/jpeg:https://brazosabiertos.net/wp-content/uploads/2024/04/Reunion-Jucum.jpeg
END:VEVENT
BEGIN:VEVENT
DTSTART;TZID=America/Lima:20250311T143000
DTEND;TZID=America/Lima:20250311T153000
DTSTAMP:20260419T095940
CREATED:20240415T214847Z
LAST-MODIFIED:20250225T032801Z
UID:3873-1741703400-1741707000@brazosabiertos.net
SUMMARY:[:es]Reunión Jucum [:en]Ywam meeting[:nl]Jmeo ontmoeting[:]
DESCRIPTION:
URL:https://brazosabiertos.net/nl/event/reunion-jucum-6/
LOCATION:Jmeo Lima\, geopende armen kerk\, Calle los Cipreses Mz G\, Lt 25\, Nueva Juventud\, Lima\, Cieneguilla\, Perú
ATTACH;FMTTYPE=image/jpeg:https://brazosabiertos.net/wp-content/uploads/2024/04/Reunion-Jucum.jpeg
END:VEVENT
BEGIN:VEVENT
DTSTART;TZID=America/Lima:20250304T143000
DTEND;TZID=America/Lima:20250304T153000
DTSTAMP:20260419T095940
CREATED:20240415T214951Z
LAST-MODIFIED:20250225T032726Z
UID:3875-1741098600-1741102200@brazosabiertos.net
SUMMARY:[:es]Reunión Jucum [:en]Ywam meeting[:nl]Jmeo ontmoeting[:]
DESCRIPTION:
URL:https://brazosabiertos.net/nl/event/reunion-jucum-7/
LOCATION:Jmeo Lima\, geopende armen kerk\, Calle los Cipreses Mz G\, Lt 25\, Nueva Juventud\, Lima\, Cieneguilla\, Perú
ATTACH;FMTTYPE=image/jpeg:https://brazosabiertos.net/wp-content/uploads/2024/04/Reunion-Jucum.jpeg
END:VEVENT
BEGIN:VEVENT
DTSTART;TZID=America/Lima:20250202T193000
DTEND;TZID=America/Lima:20250620T210000
DTSTAMP:20260419T095940
CREATED:20240812T054858Z
LAST-MODIFIED:20240812T054858Z
UID:4178-1738524600-1750453200@brazosabiertos.net
SUMMARY:[:es]EDE[:en]DTS[:nl]DTS[:]
DESCRIPTION:School voor Discipelschap en Training (DTS)
URL:https://brazosabiertos.net/nl/event/ede/
LOCATION:Jmeo Lima\, Brazos Abiertos\, De Vuurtoren\, Calle los Tulipanes Mz H1\, Lt1\, Nueva Juventud\, Lima\, Cieneguilla\, Perú
END:VEVENT
BEGIN:VEVENT
DTSTART;TZID=America/Lima:20241221T180000
DTEND;TZID=America/Lima:20241221T210000
DTSTAMP:20260419T095940
CREATED:20241221T184932Z
LAST-MODIFIED:20241221T184932Z
UID:4471-1734804000-1734814800@brazosabiertos.net
SUMMARY:[:es]Clausura ministerio[:en]Ministry closure[:nl]Afsluiting jaar[:]
DESCRIPTION:
URL:https://brazosabiertos.net/nl/event/clausura-ministerio/
LOCATION:El parque Nueva Juventud\, Avenida las Praderas\, Nueva Juventud\, Lima\, Cieneguilla\, Perú
END:VEVENT
BEGIN:VEVENT
DTSTART;TZID=America/Lima:20241214T190000
DTEND;TZID=America/Lima:20241214T210000
DTSTAMP:20260419T095940
CREATED:20240309T193202Z
LAST-MODIFIED:20241009T013856Z
UID:3635-1734202800-1734210000@brazosabiertos.net
SUMMARY:[:es]Reunión Jóvenes[:en]Youth meeting[:nl]Jongeren bijeenkomst[:]
DESCRIPTION:
URL:https://brazosabiertos.net/nl/event/reunion-jovenes-7/
LOCATION:Jmeo Lima\, geopende armen kerk\, Calle los Cipreses Mz G\, Lt 25\, Nueva Juventud\, Lima\, Cieneguilla\, Perú
ATTACH;FMTTYPE=image/jpeg:https://brazosabiertos.net/wp-content/uploads/2023/07/Jovenes.jpg
END:VEVENT
BEGIN:VEVENT
DTSTART;TZID=America/Lima:20241211T093000
DTEND;TZID=America/Lima:20241211T123000
DTSTAMP:20260419T095941
CREATED:20231104T170949Z
LAST-MODIFIED:20241009T013529Z
UID:3406-1733909400-1733920200@brazosabiertos.net
SUMMARY:[:es]Club de mujeres[:en]Womenclub[:nl]Vrouwenclub[:]
DESCRIPTION:
URL:https://brazosabiertos.net/nl/event/noche-de-mujeres/
ATTACH;FMTTYPE=image/jpeg:https://brazosabiertos.net/wp-content/uploads/2024/03/Vrouwenclub-2.jpg
END:VEVENT
BEGIN:VEVENT
DTSTART;TZID=America/Lima:20241207T190000
DTEND;TZID=America/Lima:20241207T210000
DTSTAMP:20260419T095941
CREATED:20240309T193113Z
LAST-MODIFIED:20241009T013829Z
UID:3633-1733598000-1733605200@brazosabiertos.net
SUMMARY:[:es]Reunión Jóvenes[:en]Youth meeting[:nl]Jongeren bijeenkomst[:]
DESCRIPTION:
URL:https://brazosabiertos.net/nl/event/reunion-jovenes-6/
LOCATION:Jmeo Lima\, geopende armen kerk\, Calle los Cipreses Mz G\, Lt 25\, Nueva Juventud\, Lima\, Cieneguilla\, Perú
ATTACH;FMTTYPE=image/jpeg:https://brazosabiertos.net/wp-content/uploads/2023/07/Jovenes.jpg
END:VEVENT
BEGIN:VEVENT
DTSTART;TZID=America/Lima:20241207T100000
DTEND;TZID=America/Lima:20241207T123000
DTSTAMP:20260419T095941
CREATED:20220831T010344Z
LAST-MODIFIED:20240830T210701Z
UID:2490-1733565600-1733574600@brazosabiertos.net
SUMMARY:[:es]Los Aventureros[:en]The adventurers [:nl]De avonturiers [:]
DESCRIPTION:Workshops\, theater en spelletjes\, kinderen van 5-12 jaar\, welkom.
URL:https://brazosabiertos.net/nl/event/los-aventureros-7/
LOCATION:Jmeo Lima\, geopende armen kerk\, Calle los Cipreses Mz G\, Lt 25\, Nueva Juventud\, Lima\, Cieneguilla\, Perú
ATTACH;FMTTYPE=image/jpeg:https://brazosabiertos.net/wp-content/uploads/2022/08/Los-Aventureros.jpg
END:VEVENT
BEGIN:VEVENT
DTSTART;TZID=UTC:20241207T100000
DTEND;TZID=UTC:20241207T120000
DTSTAMP:20260419T095941
CREATED:20181122T083127Z
LAST-MODIFIED:20240830T211604Z
UID:1090-1733565600-1733572800@brazosabiertos.net
SUMMARY:[:es]Desafios Extremos [:en]Extreme challenge [:nl]Extreme uitdagingen [:]
DESCRIPTION:Ontmoeting met tieners in de leeftijd van 12-17 jaar.
URL:https://brazosabiertos.net/nl/event/desafios-extremos/
LOCATION:Jmeo Lima\, geopende armen kerk\, Calle los Cipreses Mz G\, Lt 25\, Nueva Juventud\, Lima\, Cieneguilla\, Perú
ATTACH;FMTTYPE=image/jpeg:https://brazosabiertos.net/wp-content/uploads/2019/03/Desafios-Extremos-2.jpeg
END:VEVENT
BEGIN:VEVENT
DTSTART;TZID=America/Lima:20241204T093000
DTEND;TZID=America/Lima:20241204T120000
DTSTAMP:20260419T095941
CREATED:20240423T021312Z
LAST-MODIFIED:20241009T013124Z
UID:3896-1733304600-1733313600@brazosabiertos.net
SUMMARY:[:es]Club de mujeres[:en]Womenclub[:nl]Vrouwenclub[:]
DESCRIPTION:
URL:https://brazosabiertos.net/nl/event/noche-de-mujeres-2/
LOCATION:Jmeo Lima\, geopende armen kerk\, Calle los Cipreses Mz G\, Lt 25\, Nueva Juventud\, Lima\, Cieneguilla\, Perú
ATTACH;FMTTYPE=image/jpeg:https://brazosabiertos.net/wp-content/uploads/2024/03/Vrouwenclub-2.jpg
END:VEVENT
BEGIN:VEVENT
DTSTART;TZID=America/Lima:20241130T190000
DTEND;TZID=America/Lima:20241130T210000
DTSTAMP:20260419T095941
CREATED:20221005T013427Z
LAST-MODIFIED:20241009T013757Z
UID:2533-1732993200-1733000400@brazosabiertos.net
SUMMARY:[:es]Reunión Jóvenes[:en]Youth meeting[:nl]Jongeren bijeenkomst[:]
DESCRIPTION:
URL:https://brazosabiertos.net/nl/event/reunion-jovenes-2/
LOCATION:Jmeo Lima\, geopende armen kerk\, Calle los Cipreses Mz G\, Lt 25\, Nueva Juventud\, Lima\, Cieneguilla\, Perú
ATTACH;FMTTYPE=image/jpeg:https://brazosabiertos.net/wp-content/uploads/2023/07/Jovenes.jpg
END:VEVENT
END:VCALENDAR